BEGIN:VCALENDAR
VERSION:2.0
BEGIN:VEVENT
URL:https://tickets.oztix.com.au/outlet/event/e1901932-b4c6-4414-9190-1f53ae8269bf
DTSTART:20260607T050000Z
DTEND:20260607T050000Z
SUMMARY:Benny Elder - Divine Glow Tour
DESCRIPTION:Event details: https://tickets.oztix.com.au/outlet/event/e1901932-b4c6-4414-9190-1f53ae8269bf
LOCATION:Wesley Anne (Northcote, VIC)
END:VEVENT
END:VCALENDAR