BEGIN:VCALENDAR
VERSION:2.0
BEGIN:VEVENT
URL:https://tickets.oztix.com.au/outlet/event/e0e04063-aae8-4b61-b0cb-b7d1e11b88f9
DTSTART:20260506T090000Z
DTEND:20260506T090000Z
SUMMARY:Honky Tonk Throwdown
DESCRIPTION:Event details: https://tickets.oztix.com.au/outlet/event/e0e04063-aae8-4b61-b0cb-b7d1e11b88f9
LOCATION:Black Bear Lodge (Fortitude Valley, QLD)
END:VEVENT
END:VCALENDAR