BEGIN:VCALENDAR
VERSION:2.0
BEGIN:VEVENT
URL:https://tickets.oztix.com.au/outlet/event/df470835-2acf-4ca0-b0dd-8d81acfdd28b
DTSTART:20270227T083000Z
DTEND:20270227T083000Z
SUMMARY:The Radiators
DESCRIPTION:Event details: https://tickets.oztix.com.au/outlet/event/df470835-2acf-4ca0-b0dd-8d81acfdd28b
LOCATION:The Oaks Hotel (Albion Park Rail, NSW)
END:VEVENT
END:VCALENDAR