BEGIN:VCALENDAR
VERSION:2.0
BEGIN:VEVENT
URL:https://tickets.oztix.com.au/outlet/event/de16ac9a-e29a-4cee-8692-d1aba98e5421
DTSTART:20260627T100000Z
DTEND:20260627T100000Z
SUMMARY:THE EXTERNALS - BACK ON THE CANS - **NEW VENUE/DATE**
DESCRIPTION:Event details: https://tickets.oztix.com.au/outlet/event/de16ac9a-e29a-4cee-8692-d1aba98e5421
LOCATION:The Last Chance Rock & Roll Bar (North Melbourne, VIC)
END:VEVENT
END:VCALENDAR