BEGIN:VCALENDAR
VERSION:2.0
BEGIN:VEVENT
URL:https://tickets.oztix.com.au/outlet/event/ddf54bb6-f7df-4980-a490-be54b82d1b37
DTSTART:20260927T023000Z
DTEND:20260927T023000Z
SUMMARY:Heart and Soul with Cosima De Vito and JD Smith
DESCRIPTION:Event details: https://tickets.oztix.com.au/outlet/event/ddf54bb6-f7df-4980-a490-be54b82d1b37
LOCATION:Brass Monkey (Cronulla, NSW)
END:VEVENT
END:VCALENDAR