BEGIN:VCALENDAR
VERSION:2.0
BEGIN:VEVENT
URL:https://tickets.oztix.com.au/outlet/event/ddeb92f7-329d-400e-a22d-05b18f2296c7
DTSTART:20260424T093000Z
DTEND:20260424T093000Z
SUMMARY:Amélie Farren – Airheaded Launch Show
DESCRIPTION:Event details: https://tickets.oztix.com.au/outlet/event/ddeb92f7-329d-400e-a22d-05b18f2296c7
LOCATION:The Eveleigh (Redfern, NSW)
END:VEVENT
END:VCALENDAR