BEGIN:VCALENDAR
VERSION:2.0
BEGIN:VEVENT
URL:https://tickets.oztix.com.au/outlet/event/dd4d8e74-bef1-42a8-aa24-3b678e8988d9
DTSTART:20261024T063000Z
DTEND:20261024T063000Z
SUMMARY:PBR Tamworth Iron Cowboy
DESCRIPTION:Event details: https://tickets.oztix.com.au/outlet/event/dd4d8e74-bef1-42a8-aa24-3b678e8988d9
LOCATION:Australian Equine and Livestock Events Centre (AELEC) (Tamworth, NSW)
END:VEVENT
END:VCALENDAR