BEGIN:VCALENDAR
VERSION:2.0
BEGIN:VEVENT
URL:https://tickets.oztix.com.au/outlet/event/dca101d5-b46a-418f-8205-4a0a7d2b3163
DTSTART:20260626T100000Z
DTEND:20260626T100000Z
SUMMARY:Dallas Frasca - "Send Off Show"
DESCRIPTION:Event details: https://tickets.oztix.com.au/outlet/event/dca101d5-b46a-418f-8205-4a0a7d2b3163
LOCATION:The Last Chance Rock & Roll Bar (North Melbourne, VIC)
END:VEVENT
END:VCALENDAR