BEGIN:VCALENDAR
VERSION:2.0
BEGIN:VEVENT
URL:https://tickets.oztix.com.au/outlet/event/dbe80f66-45c8-4b63-a1a5-75a4673eb5a6
DTSTART:20260613T083000Z
DTEND:20260613T083000Z
SUMMARY:90’s DISCO NIGHT FUNDRAISER - PNG-Darwin Cultural Group Inc
DESCRIPTION:Event details: https://tickets.oztix.com.au/outlet/event/dbe80f66-45c8-4b63-a1a5-75a4673eb5a6
LOCATION:Portuguese & Timorese Social Club (Mararra, NT)
END:VEVENT
END:VCALENDAR