BEGIN:VCALENDAR
VERSION:2.0
BEGIN:VEVENT
URL:https://tickets.oztix.com.au/outlet/event/d883bc08-caf8-4005-ae2b-243c0300f9c9
DTSTART:20260508T090000Z
DTEND:20260508T090000Z
SUMMARY:Playlunch Sex Ed Regional Tour | Newcastle
DESCRIPTION:Event details: https://tickets.oztix.com.au/outlet/event/d883bc08-caf8-4005-ae2b-243c0300f9c9
LOCATION:King Street Band Room (Newcastle, NSW)
END:VEVENT
END:VCALENDAR