BEGIN:VCALENDAR
VERSION:2.0
BEGIN:VEVENT
URL:https://tickets.oztix.com.au/outlet/event/d86acbf1-79e6-4214-9474-84e520611d4a
DTSTART:20260502T090000Z
DTEND:20260502T090000Z
SUMMARY:Ray Beadle at Hotel Metropole Ipswich
DESCRIPTION:Event details: https://tickets.oztix.com.au/outlet/event/d86acbf1-79e6-4214-9474-84e520611d4a
LOCATION:Hotel Metropole (Ipswich, QLD)
END:VEVENT
END:VCALENDAR