BEGIN:VCALENDAR
VERSION:2.0
BEGIN:VEVENT
URL:https://tickets.oztix.com.au/outlet/event/d7a08a95-38c5-4850-9386-4693288268a3
DTSTART:20260627T100000Z
DTEND:20260627T100000Z
SUMMARY:Ruby Jackson 'This Love Thing' EP Launch
DESCRIPTION:Event details: https://tickets.oztix.com.au/outlet/event/d7a08a95-38c5-4850-9386-4693288268a3
LOCATION:The Evelyn Hotel (Fitzroy, VIC)
END:VEVENT
END:VCALENDAR