BEGIN:VCALENDAR
VERSION:2.0
BEGIN:VEVENT
URL:https://tickets.oztix.com.au/outlet/event/d78f8fe1-9a48-4a64-a36f-ae00567ac9f2
DTSTART:20260717T100000Z
DTEND:20260717T100000Z
SUMMARY:Bondi Cigars
DESCRIPTION:Event details: https://tickets.oztix.com.au/outlet/event/d78f8fe1-9a48-4a64-a36f-ae00567ac9f2
LOCATION:Dalrymple Hotel (Townsville, QLD)
END:VEVENT
END:VCALENDAR