BEGIN:VCALENDAR
VERSION:2.0
BEGIN:VEVENT
URL:https://tickets.oztix.com.au/outlet/event/d77ab8d0-2c4c-4289-a96e-8fe74907c881
DTSTART:20260515T090000Z
DTEND:20260515T090000Z
SUMMARY:Jet "The Rumblin' Regional Revue"
DESCRIPTION:Event details: https://tickets.oztix.com.au/outlet/event/d77ab8d0-2c4c-4289-a96e-8fe74907c881
LOCATION:Barwon Heads Hotel (Barwon Heads, VIC)
END:VEVENT
END:VCALENDAR