BEGIN:VCALENDAR
VERSION:2.0
BEGIN:VEVENT
URL:https://tickets.oztix.com.au/outlet/event/d69037a7-6f96-480f-8a4f-a2cc8d6d8abb
DTSTART:20260718T103000Z
DTEND:20260718T103000Z
SUMMARY:VIVA COLOMBIA FEST 2026
DESCRIPTION:Event details: https://tickets.oztix.com.au/outlet/event/d69037a7-6f96-480f-8a4f-a2cc8d6d8abb
LOCATION:The Gov - The Venue (Hindmarsh, SA)
END:VEVENT
END:VCALENDAR