BEGIN:VCALENDAR
VERSION:2.0
BEGIN:VEVENT
URL:https://tickets.oztix.com.au/outlet/event/d587fe9b-3dbb-4b5e-b292-f003c3e8a7a3
DTSTART:20260529T090000Z
DTEND:20260529T090000Z
SUMMARY:Cigarettes & Alcohol
DESCRIPTION:Event details: https://tickets.oztix.com.au/outlet/event/d587fe9b-3dbb-4b5e-b292-f003c3e8a7a3
LOCATION:The Brightside (Fortitude Valley, QLD)
END:VEVENT
END:VCALENDAR