BEGIN:VCALENDAR
VERSION:2.0
BEGIN:VEVENT
URL:https://tickets.oztix.com.au/outlet/event/d56a2341-5e76-44ed-8130-c4f961e0910d
DTSTART:20260703T100000Z
DTEND:20260703T100000Z
SUMMARY:Sienna Skies
DESCRIPTION:Event details: https://tickets.oztix.com.au/outlet/event/d56a2341-5e76-44ed-8130-c4f961e0910d
LOCATION:Crowbar Sydney (Leichhardt, NSW)
END:VEVENT
END:VCALENDAR