BEGIN:VCALENDAR
VERSION:2.0
BEGIN:VEVENT
URL:https://tickets.oztix.com.au/outlet/event/d537665c-f989-4cc2-8c52-e2a2657bba6c
DTSTART:20260531T030000Z
DTEND:20260531T030000Z
SUMMARY:The Audreys
DESCRIPTION:Event details: https://tickets.oztix.com.au/outlet/event/d537665c-f989-4cc2-8c52-e2a2657bba6c
LOCATION:The Heritage Hotel, Bulli (Bulli, NSW)
END:VEVENT
END:VCALENDAR