BEGIN:VCALENDAR
VERSION:2.0
BEGIN:VEVENT
URL:https://tickets.oztix.com.au/outlet/event/d3fdd787-412f-455b-80b0-32a6bc357312
DTSTART:20260507T090000Z
DTEND:20260507T090000Z
SUMMARY:Kevin Bloody Wilson - 'Aussie Icon Tour'
DESCRIPTION:Event details: https://tickets.oztix.com.au/outlet/event/d3fdd787-412f-455b-80b0-32a6bc357312
LOCATION:Mansfield Arena (Mansfield, QLD)
END:VEVENT
END:VCALENDAR