BEGIN:VCALENDAR
VERSION:2.0
BEGIN:VEVENT
URL:https://tickets.oztix.com.au/outlet/event/d3cab6f4-6049-42db-95a9-b1648d509e66
DTSTART:20260523T090000Z
DTEND:20260523T090000Z
SUMMARY:waist - Free Entry
DESCRIPTION:Event details: https://tickets.oztix.com.au/outlet/event/d3cab6f4-6049-42db-95a9-b1648d509e66
LOCATION:Felons Barrel Room (Manly, NSW)
END:VEVENT
END:VCALENDAR