BEGIN:VCALENDAR
VERSION:2.0
BEGIN:VEVENT
URL:https://tickets.oztix.com.au/outlet/event/d1d8779e-ec23-4568-b86e-cdead4de0dca
DTSTART:20261002T083000Z
DTEND:20261002T083000Z
SUMMARY:Hindley Street Country Club
DESCRIPTION:Event details: https://tickets.oztix.com.au/outlet/event/d1d8779e-ec23-4568-b86e-cdead4de0dca
LOCATION:The Forth Pub (Forth, TAS)
END:VEVENT
END:VCALENDAR