BEGIN:VCALENDAR
VERSION:2.0
BEGIN:VEVENT
URL:https://tickets.oztix.com.au/outlet/event/d1a42309-75a4-4943-b673-f6610745f413
DTSTART:20260621T090000Z
DTEND:20260621T090000Z
SUMMARY:LOU REED performed by Dirty Blvd
DESCRIPTION:Event details: https://tickets.oztix.com.au/outlet/event/d1a42309-75a4-4943-b673-f6610745f413
LOCATION:Lyric's Underground (Maylands, WA)
END:VEVENT
END:VCALENDAR