BEGIN:VCALENDAR
VERSION:2.0
BEGIN:VEVENT
URL:https://tickets.oztix.com.au/outlet/event/d1943432-8d1d-47ad-ab87-8bc35a7195f9
DTSTART:20260523T100000Z
DTEND:20260523T100000Z
SUMMARY:LIVE BABY LIVE THE INXS TRIBUTE SHOW
DESCRIPTION:Event details: https://tickets.oztix.com.au/outlet/event/d1943432-8d1d-47ad-ab87-8bc35a7195f9
LOCATION:Doyalson RSL (Doyalson, NSW)
END:VEVENT
END:VCALENDAR