BEGIN:VCALENDAR
VERSION:2.0
BEGIN:VEVENT
URL:https://tickets.oztix.com.au/outlet/event/d08bca7d-a997-43b5-b7b5-12b04bd99e35
DTSTART:20260529T080000Z
DTEND:20260529T080000Z
SUMMARY:BAGGY TROUSERS - The Sound of Madness  - “Big Bag of Brit Bangers”
DESCRIPTION:Event details: https://tickets.oztix.com.au/outlet/event/d08bca7d-a997-43b5-b7b5-12b04bd99e35
LOCATION:Miami Marketta, Gold Coast (Miami, QLD)
END:VEVENT
END:VCALENDAR