BEGIN:VCALENDAR
VERSION:2.0
BEGIN:VEVENT
URL:https://tickets.oztix.com.au/outlet/event/d0522579-f029-4db3-a7e1-3ab0834d5650
DTSTART:20260620T120000Z
DTEND:20260620T120000Z
SUMMARY:Against The Grain Official Afterparty
DESCRIPTION:Event details: https://tickets.oztix.com.au/outlet/event/d0522579-f029-4db3-a7e1-3ab0834d5650
LOCATION:The Princess Theatre (Woolloongabba, QLD)
END:VEVENT
END:VCALENDAR