BEGIN:VCALENDAR
VERSION:2.0
BEGIN:VEVENT
URL:https://tickets.oztix.com.au/outlet/event/d0316047-c610-416c-a8fc-e8652b59e7ba
DTSTART:20260523T100000Z
DTEND:20260523T100000Z
SUMMARY:Jeremy Beggs - The Long Road Tour
DESCRIPTION:Event details: https://tickets.oztix.com.au/outlet/event/d0316047-c610-416c-a8fc-e8652b59e7ba
LOCATION:Wesley Anne (Northcote, VIC)
END:VEVENT
END:VCALENDAR