BEGIN:VCALENDAR
VERSION:2.0
BEGIN:VEVENT
URL:https://tickets.oztix.com.au/outlet/event/cfa2f901-e4d1-4d3e-b2a1-c55d936d1e85
DTSTART:20260626T093000Z
DTEND:20260626T093000Z
SUMMARY:Big Booty Bingo
DESCRIPTION:Event details: https://tickets.oztix.com.au/outlet/event/cfa2f901-e4d1-4d3e-b2a1-c55d936d1e85
LOCATION:Club Hotel, Bundaberg (Bundaberg, QLD)
END:VEVENT
END:VCALENDAR