BEGIN:VCALENDAR
VERSION:2.0
BEGIN:VEVENT
URL:https://tickets.oztix.com.au/outlet/event/cf6a4bd6-2458-4dc5-a768-70b0bb01e42b
DTSTART:20260919T030000Z
DTEND:20260919T030000Z
SUMMARY:DRENCHER FESTIVAL 2026
DESCRIPTION:Event details: https://tickets.oztix.com.au/outlet/event/cf6a4bd6-2458-4dc5-a768-70b0bb01e42b
LOCATION:Barwon Club Hotel (South Geelong, VIC)
END:VEVENT
END:VCALENDAR