BEGIN:VCALENDAR
VERSION:2.0
BEGIN:VEVENT
URL:https://tickets.oztix.com.au/outlet/event/cebe2dac-a4a8-4ab5-a8eb-80d209cb3941
DTSTART:20260508T093000Z
DTEND:20260508T093000Z
SUMMARY:VOGS + PET THERAPY + JIMMY HARWOOD
DESCRIPTION:Event details: https://tickets.oztix.com.au/outlet/event/cebe2dac-a4a8-4ab5-a8eb-80d209cb3941
LOCATION:The Catfish  (Fitzroy, VIC)
END:VEVENT
END:VCALENDAR