BEGIN:VCALENDAR
VERSION:2.0
BEGIN:VEVENT
URL:https://tickets.oztix.com.au/outlet/event/cea87159-71a6-4386-bcdd-005ed8b4b754
DTSTART:20260607T050000Z
DTEND:20260607T050000Z
SUMMARY:SYDNEY DETHFEST 2026 FEATURING EXHUMED AND ORIGIN
DESCRIPTION:Event details: https://tickets.oztix.com.au/outlet/event/cea87159-71a6-4386-bcdd-005ed8b4b754
LOCATION:Crowbar Sydney (Leichhardt, NSW)
END:VEVENT
END:VCALENDAR