BEGIN:VCALENDAR
VERSION:2.0
BEGIN:VEVENT
URL:https://tickets.oztix.com.au/outlet/event/cdf12e79-d57b-466a-bdbf-cff4d46eb87d
DTSTART:20260502T100000Z
DTEND:20260502T100000Z
SUMMARY:Mi-Sex 'Space Race 1980' Tour
DESCRIPTION:Event details: https://tickets.oztix.com.au/outlet/event/cdf12e79-d57b-466a-bdbf-cff4d46eb87d
LOCATION:Volta (Ballarat Central, VIC)
END:VEVENT
END:VCALENDAR