BEGIN:VCALENDAR
VERSION:2.0
BEGIN:VEVENT
URL:https://tickets.oztix.com.au/outlet/event/cda03e87-b0c9-4bff-a34c-db83ec38505a
DTSTART:20260502T093000Z
DTEND:20260502T093000Z
SUMMARY:CHUG LIFE
DESCRIPTION:Event details: https://tickets.oztix.com.au/outlet/event/cda03e87-b0c9-4bff-a34c-db83ec38505a
LOCATION:Jump Ship Brewing (Port Lincoln , SA)
END:VEVENT
END:VCALENDAR