BEGIN:VCALENDAR
VERSION:2.0
BEGIN:VEVENT
URL:https://tickets.oztix.com.au/outlet/event/cd6a4734-4648-4c38-ae10-f63f410c36e4
DTSTART:20260503T110000Z
DTEND:20260503T110000Z
SUMMARY:Anika Louise - 'Thorns' Single Launch
DESCRIPTION:Event details: https://tickets.oztix.com.au/outlet/event/cd6a4734-4648-4c38-ae10-f63f410c36e4
LOCATION:Four5Nine Bar (North Perth, WA)
END:VEVENT
END:VCALENDAR