BEGIN:VCALENDAR
VERSION:2.0
BEGIN:VEVENT
URL:https://tickets.oztix.com.au/outlet/event/cc6c029e-6a02-4138-a442-a2caef7b3bef
DTSTART:20260627T100000Z
DTEND:20260627T100000Z
SUMMARY:MELANi
DESCRIPTION:Event details: https://tickets.oztix.com.au/outlet/event/cc6c029e-6a02-4138-a442-a2caef7b3bef
LOCATION:The Workers Club (Fitzroy, VIC)
END:VEVENT
END:VCALENDAR