BEGIN:VCALENDAR
VERSION:2.0
BEGIN:VEVENT
URL:https://tickets.oztix.com.au/outlet/event/cb895328-304e-4a6a-8057-aba23681f471
DTSTART:20260514T100000Z
DTEND:20260514T100000Z
SUMMARY:MURPHY'S LAW 2026 AUS & NZ TOUR // ADELAIDE
DESCRIPTION:Event details: https://tickets.oztix.com.au/outlet/event/cb895328-304e-4a6a-8057-aba23681f471
LOCATION:Lowlife Basement Bar (Adelaide, SA)
END:VEVENT
END:VCALENDAR