BEGIN:VCALENDAR
VERSION:2.0
BEGIN:VEVENT
URL:https://tickets.oztix.com.au/outlet/event/cade6deb-f78f-4b3a-9ec5-d77aec209737
DTSTART:20260521T080000Z
DTEND:20260521T080000Z
SUMMARY:The Buzz Lovers (Nirvana Tribute) (Spain)
DESCRIPTION:Event details: https://tickets.oztix.com.au/outlet/event/cade6deb-f78f-4b3a-9ec5-d77aec209737
LOCATION:Miami Marketta, Gold Coast (Miami, QLD)
END:VEVENT
END:VCALENDAR