BEGIN:VCALENDAR
VERSION:2.0
BEGIN:VEVENT
URL:https://tickets.oztix.com.au/outlet/event/c93bb299-0c83-4d55-8c90-e23615566d61
DTSTART:20260612T093000Z
DTEND:20260612T093000Z
SUMMARY:The Creedence Clearwater Revival and Jimi Hendrix music show
DESCRIPTION:Event details: https://tickets.oztix.com.au/outlet/event/c93bb299-0c83-4d55-8c90-e23615566d61
LOCATION:The Banana Bender Pub (Palmview, Sunshine Coast, QLD)
END:VEVENT
END:VCALENDAR