BEGIN:VCALENDAR
VERSION:2.0
BEGIN:VEVENT
URL:https://tickets.oztix.com.au/outlet/event/c936d654-29b9-43f5-a232-f2188ad0516e
DTSTART:20260821T093000Z
DTEND:20260821T093000Z
SUMMARY:Pierce Brothers - Moonrise Album Tour
DESCRIPTION:Event details: https://tickets.oztix.com.au/outlet/event/c936d654-29b9-43f5-a232-f2188ad0516e
LOCATION:Lake Tyers Beach Tavern (Lake Tyers Beach, VIC)
END:VEVENT
END:VCALENDAR