BEGIN:VCALENDAR
VERSION:2.0
BEGIN:VEVENT
URL:https://tickets.oztix.com.au/outlet/event/c8933c3d-1e4e-4ae7-a57f-7d65472b62ed
DTSTART:20260508T083000Z
DTEND:20260510T135900Z
SUMMARY:Time Enough At Last ‘26
DESCRIPTION:Event details: https://tickets.oztix.com.au/outlet/event/c8933c3d-1e4e-4ae7-a57f-7d65472b62ed
LOCATION:The Tote (Collingwood, VIC)
END:VEVENT
END:VCALENDAR