BEGIN:VCALENDAR
VERSION:2.0
BEGIN:VEVENT
URL:https://tickets.oztix.com.au/outlet/event/c8829ca0-7043-43ff-be5a-b32de3999afd
DTSTART:20260515T100000Z
DTEND:20260515T100000Z
SUMMARY:MI-SEX - SPACE RACE 1980 TOUR
DESCRIPTION:Event details: https://tickets.oztix.com.au/outlet/event/c8829ca0-7043-43ff-be5a-b32de3999afd
LOCATION:Coolangatta Hotel (Coolangatta, Gold Coast, QLD)
END:VEVENT
END:VCALENDAR