BEGIN:VCALENDAR
VERSION:2.0
BEGIN:VEVENT
URL:https://tickets.oztix.com.au/outlet/event/c7a73d7f-9314-4ff5-bb1b-7f237e6c9c1f
DTSTART:20260821T110000Z
DTEND:20260821T110000Z
SUMMARY:THE YACHTSKI BROTHERS
DESCRIPTION:Event details: https://tickets.oztix.com.au/outlet/event/c7a73d7f-9314-4ff5-bb1b-7f237e6c9c1f
LOCATION:Westernport Hotel - San Remo (San Remo, VIC)
END:VEVENT
END:VCALENDAR