BEGIN:VCALENDAR
VERSION:2.0
BEGIN:VEVENT
URL:https://tickets.oztix.com.au/outlet/event/c7647ff9-bcf5-43f5-a28e-cc0a1a5784ac
DTSTART:20260522T100000Z
DTEND:20260522T100000Z
SUMMARY:SEX MASK
DESCRIPTION:Event details: https://tickets.oztix.com.au/outlet/event/c7647ff9-bcf5-43f5-a28e-cc0a1a5784ac
LOCATION:Botany View Hotel (Newtown, NSW)
END:VEVENT
END:VCALENDAR