BEGIN:VCALENDAR
VERSION:2.0
BEGIN:VEVENT
URL:https://tickets.oztix.com.au/outlet/event/c64f07a4-54ee-4999-a81e-b152f62aeeb0
DTSTART:20260502T080000Z
DTEND:20260502T080000Z
SUMMARY:CHIP DAMAGE ROUND THREE
DESCRIPTION:Event details: https://tickets.oztix.com.au/outlet/event/c64f07a4-54ee-4999-a81e-b152f62aeeb0
LOCATION:The Catfish  (Fitzroy, VIC)
END:VEVENT
END:VCALENDAR