BEGIN:VCALENDAR
VERSION:2.0
BEGIN:VEVENT
URL:https://tickets.oztix.com.au/outlet/event/c647b6a3-1af0-4c17-ad9f-64ead83cef83
DTSTART:20260502T080000Z
DTEND:20260502T080000Z
SUMMARY:PARK RD
DESCRIPTION:Event details: https://tickets.oztix.com.au/outlet/event/c647b6a3-1af0-4c17-ad9f-64ead83cef83
LOCATION:The Warren View Hotel (Enmore, NSW)
END:VEVENT
END:VCALENDAR