BEGIN:VCALENDAR
VERSION:2.0
BEGIN:VEVENT
URL:https://tickets.oztix.com.au/outlet/event/c6258512-ea1c-4d99-bae0-a84d5a7f663e
DTSTART:20260724T100000Z
DTEND:20260724T100000Z
SUMMARY:Vi-Nil Records INDIE SOUNDS album launch
DESCRIPTION:Event details: https://tickets.oztix.com.au/outlet/event/c6258512-ea1c-4d99-bae0-a84d5a7f663e
LOCATION:Crowbar Sydney (Leichhardt, NSW)
END:VEVENT
END:VCALENDAR