BEGIN:VCALENDAR
VERSION:2.0
BEGIN:VEVENT
URL:https://tickets.oztix.com.au/outlet/event/c5e421d2-fee5-4502-8398-fd09fdcfba65
DTSTART:20261113T080000Z
DTEND:20261113T080000Z
SUMMARY:DISCO REVOLUTION  - THE ULTIMATE DANCE PARTY EXPERIENCE
DESCRIPTION:Event details: https://tickets.oztix.com.au/outlet/event/c5e421d2-fee5-4502-8398-fd09fdcfba65
LOCATION:Miami Marketta, Gold Coast (Miami, QLD)
END:VEVENT
END:VCALENDAR