BEGIN:VCALENDAR
VERSION:2.0
BEGIN:VEVENT
URL:https://tickets.oztix.com.au/outlet/event/c54ad0d0-98a9-49a0-819c-b3cade04d7d4
DTSTART:20260517T110000Z
DTEND:20260517T110000Z
SUMMARY:Rainbow Room
DESCRIPTION:Event details: https://tickets.oztix.com.au/outlet/event/c54ad0d0-98a9-49a0-819c-b3cade04d7d4
LOCATION:Rosemount Hotel (North Perth, WA)
END:VEVENT
END:VCALENDAR