BEGIN:VCALENDAR
VERSION:2.0
BEGIN:VEVENT
URL:https://tickets.oztix.com.au/outlet/event/c5235657-2dfd-4f90-a0ab-8912fb628a01
DTSTART:20260603T050000Z
DTEND:20260603T050000Z
SUMMARY:James Reyne  - Live in Koh Samui
DESCRIPTION:Event details: https://tickets.oztix.com.au/outlet/event/c5235657-2dfd-4f90-a0ab-8912fb628a01
LOCATION:Silavadee Resort  (Thailand, VIC)
END:VEVENT
END:VCALENDAR