BEGIN:VCALENDAR
VERSION:2.0
BEGIN:VEVENT
URL:https://tickets.oztix.com.au/outlet/event/c3f9932d-5ca4-4493-bf07-4917bf2c80fd
DTSTART:20260710T083000Z
DTEND:20260710T083000Z
SUMMARY:Bingo Loco
DESCRIPTION:Event details: https://tickets.oztix.com.au/outlet/event/c3f9932d-5ca4-4493-bf07-4917bf2c80fd
LOCATION:Dee Why RSL Club (Dee Why, NSW)
END:VEVENT
END:VCALENDAR