BEGIN:VCALENDAR
VERSION:2.0
BEGIN:VEVENT
URL:https://tickets.oztix.com.au/outlet/event/c2969b46-3e81-40be-b677-7725361277d4
DTSTART:20260724T090000Z
DTEND:20260724T090000Z
SUMMARY:Brit Fest (from the UK) - Gladstone
DESCRIPTION:Event details: https://tickets.oztix.com.au/outlet/event/c2969b46-3e81-40be-b677-7725361277d4
LOCATION:Harvey Road Tavern (Gladstone, QLD)
END:VEVENT
END:VCALENDAR